BEGIN:VCALENDAR
VERSION:2.0
PRODID:-//ChamberMaster//Event Calendar 2.0//EN
METHOD:PUBLISH
X-PUBLISHED-TTL:P3D
REFRESH-INTERVAL:P3D
CALSCALE:GREGORIAN
BEGIN:VEVENT
DTSTART:20260427T220000Z
DTEND:20260428T010000Z
X-MICROSOFT-CDO-ALLDAYEVENT:FALSE
SUMMARY:Firearm Safety Class
DESCRIPTION:Retired Major Ramsey with the Lumpkin County Sheriff's Office will be teaching the Firearm Safety Course from 6-9 pm at the Lumpkin County Sheriff's Office. The course is offered at no cost for the following:\n\n1) residents of Lumpkin County 18 years and older or\n\n2) a student that attends school in Lumpkin County (18 years and older) or\n\n3) works in Lumpkin County.\n\nTo register for the class\, contact Mitzi Deaton at (706) 482-2628 or via email at mitzi.deaton@lumpkincounty.gov\n\n\n\n**Bring your driver's license and a pen for notes. NO WEAPONS**
X-ALT-DESC;FMTTYPE=text/html:Retired Major Ramsey with the Lumpkin County Sheriff&#39\;s Office will be teaching the Firearm Safety Course from 6-9 pm at the Lumpkin County Sheriff&#39\;s Office. The course is offered at no cost for the following:<br />\n1) residents of Lumpkin County 18 years and older or<br />\n2) a student that attends school in Lumpkin County (18 years and older) or<br />\n3) works in Lumpkin County.<br />\nTo register for the class\, contact Mitzi Deaton at (706) 482-2628 or via email at mitzi.deaton@lumpkincounty.gov<br />\n<br />\n**Bring your driver&#39\;s license and a pen for notes. NO WEAPONS**
LOCATION:385 East Main Street\, Dahlonega\, GA 30533
UID:e.69.86363
SEQUENCE:3
DTSTAMP:20260422T042158Z
URL:http://members.dlcchamber.org/events/details/firearm-safety-class-04-27-2026-86363
END:VEVENT

END:VCALENDAR
