BEGIN:VCALENDAR
VERSION:2.0
PRODID:-//ChamberMaster//Event Calendar 2.0//EN
METHOD:PUBLISH
X-PUBLISHED-TTL:P3D
REFRESH-INTERVAL:P3D
CALSCALE:GREGORIAN
BEGIN:VEVENT
DTSTART:20181123T230000Z
DTEND:20181124T010000Z
X-MICROSOFT-CDO-ALLDAYEVENT:FALSE
SUMMARY:Lighting of the Downtown Square & Christmas Tree
DESCRIPTION:Enjoy family activities and strolling entertainers throughout the square leading up to the magical moment of historic Downtown Dahlonega being lit up from 4:30-8:30pm\n	Performances on the plaza stage begin at 4:30pm\n	Children's Ornament Tree\, 5-6pm\n	Visit with Santa on Visitors Center Plaza Downtown\, 5-8pm\n	Lighting of Downtown Square and Christmas Tree\, 6pm\n	Dahlonega/Lumpkin County 2018 Christmas Ornament unveiled at 6pm. (Proceeds to benefit Community Helping Place of Dahlonega. Limited edition of 600 ornaments for sale!)\n	Extended Downtown Merchant Shopping Hours\, until 8pm
X-ALT-DESC;FMTTYPE=text/html:<ul style="list-style-type:square\;">\n	<li>Enjoy family activities and strolling entertainers throughout the square leading up to the magical moment of historic Downtown Dahlonega being lit up from 4:30-8:30pm</li>\n	<li>Performances on the plaza stage begin at 4:30pm</li>\n	<li>Children&#39\;s Ornament Tree\, 5-6pm</li>\n	<li>Visit with Santa on Visitors Center Plaza Downtown\, 5-8pm</li>\n	<li>Lighting of Downtown Square and Christmas Tree\, 6pm</li>\n	<li>Dahlonega/Lumpkin County 2018 Christmas Ornament unveiled at 6pm. <em>(Proceeds to benefit Community Helping Place of Dahlonega. Limited edition of 600 ornaments for sale!)</em></li>\n	<li>Extended Downtown Merchant Shopping Hours\, until 8pm</li>\n</ul>\n
LOCATION:Historic Dahlonega Square
UID:e.69.50409
SEQUENCE:3
DTSTAMP:20260426T011614Z
URL:http://members.dlcchamber.org/events/details/lighting-of-the-downtown-square-christmas-tree-50409
END:VEVENT

END:VCALENDAR
