BEGIN:VCALENDAR
VERSION:2.0
PRODID:-//ChamberMaster//Event Calendar 2.0//EN
METHOD:PUBLISH
X-PUBLISHED-TTL:P3D
REFRESH-INTERVAL:P3D
CALSCALE:GREGORIAN
BEGIN:VEVENT
DTSTART:20230204T170000Z
DTEND:20230204T210000Z
X-MICROSOFT-CDO-ALLDAYEVENT:FALSE
SUMMARY:Teas Me - Monthly Tea Tasting
DESCRIPTION:Come join us for a TEA-rrific tasting on our front patio! Enjoy a free cup of our tea of the month with any purchase along with in-store only promotions! You can explore our magical gifts and over 60 varieties of tea inside our cozy shop. We can't wait to see you!
X-ALT-DESC;FMTTYPE=text/html:Come join us for a TEA-rrific tasting on our front patio! Enjoy a free cup of our tea of the month with any purchase along with in-store only promotions! You can explore our magical gifts and over 60 varieties of tea inside our cozy shop. We can&#39\;t wait to see you!
LOCATION:My Vintage Gypsy Teas & Magical Makings 10 S Chestatee St Suite A\, Dahlonega GA 30533
UID:e.69.65788
SEQUENCE:3
DTSTAMP:20260421T090551Z
URL:http://members.dlcchamber.org/events/details/teas-me-monthly-tea-tasting-02-04-2023-65788
END:VEVENT

END:VCALENDAR
