BEGIN:VCALENDAR
VERSION:2.0
PRODID:-//ChamberMaster//Event Calendar 2.0//EN
METHOD:PUBLISH
X-PUBLISHED-TTL:P3D
REFRESH-INTERVAL:P3D
CALSCALE:GREGORIAN
BEGIN:VEVENT
DTSTART:20260505T200000Z
DTEND:20260505T204500Z
X-MICROSOFT-CDO-ALLDAYEVENT:FALSE
SUMMARY:A.T.L.A.S. at the Library
DESCRIPTION:A.T.L.A.S. @ Lumpkin\n\nLumpkin County Library Branch\n\n\n\nJoin us for A.T.L.A.S. at the Lumpkin County Library on the first Tuesday of the month at 4:00 pm to either play games\, building something\, or learn something new. This program is open to kids in K - 5th grade and no registration is required.
X-ALT-DESC;FMTTYPE=text/html:<h2>A.T.L.A.S. @ Lumpkin</h2>\n\n<div><strong>Lumpkin County Library Branch</strong><br />\n<br />\nJoin us for A.T.L.A.S. at the Lumpkin County Library on the first Tuesday of the month at 4:00 pm to either play games\, building something\, or learn something new. This program is open to kids in K - 5th grade and no registration is required.</div>\n\n<div>&nbsp\;</div>\n
LOCATION:Lumpkin County Library 56 Mechanicsville Rd Dahlonega GA 30533
UID:e.69.86815
SEQUENCE:3
DTSTAMP:20260419T154823Z
URL:https://members.dlcchamber.org/events/details/a-t-l-a-s-at-the-library-86815
END:VEVENT

END:VCALENDAR
