BEGIN:VCALENDAR
VERSION:2.0
PRODID:-//ChamberMaster//Event Calendar 2.0//EN
METHOD:PUBLISH
X-PUBLISHED-TTL:P3D
REFRESH-INTERVAL:P3D
CALSCALE:GREGORIAN
BEGIN:VEVENT
DTSTART:20180922T150000Z
DTEND:20180922T230000Z
X-MICROSOFT-CDO-ALLDAYEVENT:FALSE
SUMMARY:Collaboration with Atlanta Brewing Co.\, special mead release
DESCRIPTION:With this collaboration Mead between the oldest brewery in Atlanta  (Atlanta Brewing Co.) and the newest most exciting Meadery in Georgia (Etowah Meadery)\, we are taking IPA's to a new level. Made with Honey\, Cherries\, Blueberries and hopped with Amarillo and Mosaic. This is a new kind of IPA\, a MIPA (Mead IPA).  Naturally Gluten free with no barley\, a truly new style of IPA everyone can enjoy. \n\n\n\nNow that's Enlightening .\n\n\n\nMusic from 2:00 - 5:00
X-ALT-DESC;FMTTYPE=text/html:<strong>With this collaboration Mead between the oldest brewery in Atlanta&nbsp\; (Atlanta Brewing Co.) and the newest most exciting Meadery in Georgia (Etowah Meadery)\, we are taking IPA&rsquo\;s to a new level. Made with Honey\, Cherries\, Blueberries and hopped with Amarillo and Mosaic. This is a new kind of IPA\, a MIPA (Mead IPA).&nbsp\; Naturally Gluten free with no barley\, a truly new style of IPA everyone can enjoy.&nbsp\;</strong><br />\n<br />\n<strong>Now that&rsquo\;s Enlightening&hellip\;.<br />\n<br />\nMusic from 2:00 - 5:00</strong>
LOCATION:Etowah Meadery 3003 Morrison Moore Pkwy E Dahlonega\, GA 30533
UID:e.69.49791
SEQUENCE:3
DTSTAMP:20260420T104729Z
URL:https://members.dlcchamber.org/events/details/collaboration-with-atlanta-brewing-co-special-mead-release-49791
END:VEVENT

END:VCALENDAR
