BEGIN:VCALENDAR
VERSION:2.0
PRODID:-//ChamberMaster//Event Calendar 2.0//EN
METHOD:PUBLISH
X-PUBLISHED-TTL:P3D
REFRESH-INTERVAL:P3D
CALSCALE:GREGORIAN
BEGIN:VEVENT
DTSTART;VALUE=DATE:20260622
DTEND;VALUE=DATE:20260626
TRANSP:TRANSPARENT
X-MICROSOFT-CDO-ALLDAYEVENT:TRUE
SUMMARY:Drivers Education
DESCRIPTION:The Teen Driving Program is open to children 15 years and older and will be offered twice this summer. The first one will be offered June 22nd-25th and the second will be July 13th-16th. If you are interested in signing your child up\, you can contact Nick Parrish or Jacob Wise at lcsodrivingschool@lumpkincounty.gov or nick.parrish@lumpkincounty.gov.
X-ALT-DESC;FMTTYPE=text/html:<span style="color:rgb(8\, 8\, 9)\; font-family:segoe ui historic\,segoe ui\,helvetica\,arial\,sans-serif\; font-size:14px">The Teen Driving Program is open to children 15 years and older and will be offered twice this summer. The first one will be offered June 22nd-25th and the second will be July 13th-16th. If you are interested in signing your child up\, you can contact Nick Parrish or Jacob Wise at lcsodrivingschool@lumpkincounty.gov or nick.parrish@lumpkincounty.gov.&nbsp\;</span>
LOCATION:Cottrell Elementary School 220 Pinetree Way Dahlonega\, GA 30533
UID:e.69.86370
SEQUENCE:3
DTSTAMP:20260423T135310Z
URL:https://members.dlcchamber.org/events/details/drivers-education-86370
END:VEVENT

END:VCALENDAR
