BEGIN:VCALENDAR
VERSION:2.0
PRODID:-//ChamberMaster//Event Calendar 2.0//EN
METHOD:PUBLISH
X-PUBLISHED-TTL:P3D
REFRESH-INTERVAL:P3D
CALSCALE:GREGORIAN
BEGIN:VEVENT
DTSTART:20180919T140000Z
DTEND:20180919T160000Z
X-MICROSOFT-CDO-ALLDAYEVENT:FALSE
SUMMARY:?MULTI-EMPLOYER JOB FAIR WILL BE 09/19/18 IN DAWSONVILLE!
DESCRIPTION:MULTI-EMPLOYER JOB FAIR WILL BE 09/19/18 IN DAWSONVILLE! The Goodwill Career Center will hold our multi-employer Job Fair from 10 a.m. until 12:00 p.m. on Wednesday\, September 19th\, 2018. This is a great chance to meet with hiring managers of over 20 local businesses (including Amicalola State Park\, Big Canoe\, Georgia Highlands Medical\, Innovative Circuits\, Gymboree\, Etcon Employment Solutions\, Len Foote Hike Inn\, Chick Fil A\, Express Employment Professionals\, & MANY MORE) who will conduct interviews on site. There is no cost to participate. The center is inside the Goodwill store at 66 S. 400 Center Lane in Dawsonville. The WorkSource Georgia Mountains mobile training unit will also be onsite to offer resume assistance and skills assessments. All job fair participants will receive a coupon for 25% off at the Dawsonville Goodwill Store (Valid 09/19/18 only).
X-ALT-DESC;FMTTYPE=text/html:<span style="font-family:calibri\,sans-serif"><span style="font-size:11.0pt">MULTI-EMPLOYER JOB FAIR WILL BE 09/19/18 IN DAWSONVILLE! The Goodwill Career Center will hold our multi-employer Job Fair from 10 a.m. until 12:00 p.m. on Wednesday\, September 19th\, 2018. This is a great chance to meet with hiring managers of over 20 local businesses (including Amicalola State Park\, Big Canoe\, Georgia Highlands Medical\, Innovative Circuits\, Gymboree\, Etcon Employment Solutions\, Len Foote Hike Inn\, Chick Fil A\, Express Employment Professionals\, &amp\; MANY MORE) who will conduct interviews on site. There is no cost to participate. The center is inside the Goodwill store at 66 S. 400 Center Lane in Dawsonville. The WorkSource Georgia Mountains mobile training unit will also be onsite to offer resume assistance and skills assessments. All job fair participants will receive a coupon for 25% off at the Dawsonville Goodwill Store (Valid 09/19/18 only).&nbsp\;</span></span>
LOCATION:66 S 400 Center Lane Dawsonville\, GA 30534 (Inside The Goodwill Store)
UID:e.69.49770
SEQUENCE:3
DTSTAMP:20260420T103907Z
URL:https://members.dlcchamber.org/events/details/multi-employer-job-fair-will-be-09-19-18-in-dawsonville-49770
END:VEVENT

END:VCALENDAR
