BEGIN:VCALENDAR
VERSION:2.0
PRODID:-//ChamberMaster//Event Calendar 2.0//EN
METHOD:PUBLISH
X-PUBLISHED-TTL:P3D
REFRESH-INTERVAL:P3D
CALSCALE:GREGORIAN
BEGIN:VEVENT
DTSTART;VALUE=DATE:20160219
DTEND;VALUE=DATE:20160222
TRANSP:TRANSPARENT
X-MICROSOFT-CDO-ALLDAYEVENT:TRUE
SUMMARY:Numinous Moxie - a righteous way to retreat - with Stephanie Kohler
DESCRIPTION:Numinous Moxie\n\n~ a righteous way to retreat ~\n\nJoin Stephanie for a 3-day retreat focusing on leadership in the context of spiritual practice\,\n\nheld in peaceful\, rooted north Georgia.\n\n \n\nLeadership in a broader sense than being some sort of boss. Leadership is relevant whether you're in management or self-employment\, whether you're a stay-at-home parent or an entrepreneur. Assertion is essential in holding your boundaries\, manifesting your dreams\, and collaborating with others. Leadership qualities are necessary for living your authentic path.\n\nAnd spiritual practice in a broader sense than asana (yoga postures). All contemplative practices are welcome: asana\, seated meditation\, anything that you can do silently and individually. This is an all ages\, all abilities\, all shapes and sizes gathering. (No handstand quota.) \n\nWe'll have time off the mat/meditation cushion/etc to discuss how practice offers a springboard for developing leadership skills and growth. If you're ready to weave your spiritual lessons more deeply into all the other parts of your life\, this retreat will offer new perspectives\, including a few outside your comfort zone. We'll co-create sacred space and weave boldly with spirit.\n\nwhen & where:\n\nweekend (Friday evening to Sunday afternoon) TBD in fall/winter at Dahlonega Spa Resort in Dahlonega\, GA\n\nDSR is a yoga retreat center with hiking trails\, seasonal food\, a labyrinth\, and plenty of cozy\, relaxing spaces.\n\n(My favorite spot: rocking chairs on the porch!)\n\nsharing your practice:\n\nWe will have a shared practice space. Your only requirement is a self-practice which you can sustain\, without instruction\, for 30-60 minutes. Asana\, seated meditation\, anything that you can do silently and in an individual-sized space (the equivalent of a yoga mat) is welcome.\n\nSay what? You want me to practice without instruction?! I can't do that!\n\n* Just in case that's your first reaction: don't worry. There are no perfect practitioners. There is no yoga/meditation SWAT team that will bust into the room when your mind wanders or you lose your balance. There's just showing up. This is a fundamental leadership skill.\n\ninvestment:\n\nThe retreat fee is $450 per person and includes the following:\n\n- 2 nights in double occupancy room (add $50 for double occupancy in a cabin)\n\n- meals from Friday dinner to Sunday breakfast (DSR also has a butler's pantry with tea and coffee)\n\n- all retreat sessions (Friday night to Sunday afternoon)\n\nregistration & discount:\n\nYour non-refundable deposit of $150 holds your space\; the balance is due no later than 1 month before the retreat.\n\nPlease email stephaniefrancesca@gmail.com for payment instructions.\n\nEARLY REGISTRATION DISCOUNT: $50 discount on the retreat fee for the first 10 people to register. Your choice to apply it to the deposit or the balance (only one\, please).\n\nextras:\n\nDSR has spa treatments available\, which must be scheduled in advance. (The schedule will have some free time on both Saturday and Sunday)
X-ALT-DESC;FMTTYPE=text/html:<h1 style="text-align:center"><span style="font-size:12px\;"><span style="font-family: arial\;">Numinous Moxie<br />\n~ a righteous way to retreat ~</span></span></h1>\n\n<p style="text-align:center"><span style="font-size:12px\;"><span style="font-family: arial\;">Join Stephanie&nbsp\;for a 3-day retreat focusing on&nbsp\;<strong>leadership in the context of spiritual practice</strong>\,<br />\nheld in peaceful\, rooted north Georgia.</span></span><br />\n&nbsp\;</p>\n\n<p><span style="font-size:12px\;"><span style="font-family: arial\;">Leadership in a broader sense than being some sort of boss. Leadership is relevant whether you&#39\;re in management or self-employment\, whether you&#39\;re a stay-at-home parent or an entrepreneur.&nbsp\;<strong>Assertion is essential in holding your boundaries\, manifesting your dreams\, and collaborating with others. Leadership qualities are necessary for living your authentic path.</strong></span></span></p>\n\n<p><span style="font-size:12px\;"><span style="font-family: arial\;">And spiritual practice in a broader sense than asana&nbsp\;(yoga postures). All contemplative practices are welcome: asana\, seated meditation\, anything that you can do silently and individually.&nbsp\;<strong>This is an all ages\, all abilities\, all shapes and sizes gathering.</strong>&nbsp\;(No handstand quota.)&nbsp\;</span></span></p>\n\n<p><span style="font-size:12px\;"><span style="font-family: arial\;">We&#39\;ll have time off the mat/meditation cushion/etc to discuss how practice offers a springboard for developing&nbsp\;leadership skills and growth.&nbsp\;If you&#39\;re ready to weave your spiritual lessons more deeply into all the other parts of your life\, this retreat will offer new perspectives\, including a few outside your comfort zone. We&rsquo\;ll co-create sacred space and weave boldly with spirit.</span></span></p>\n\n<h2><span style="font-size:12px\;"><span style="font-family: arial\;">when &amp\; where:</span></span></h2>\n\n<p><span style="font-size:12px\;"><span style="font-family: arial\;">weekend&nbsp\;(Friday evening to Sunday afternoon) TBD in fall/winter at&nbsp\;<a href="http://www.rrresorts.com/dahlonega/" style="color: rgb(18\, 18\, 18)\;" target="_blank">Dahlonega Spa Resort</a>&nbsp\;in Dahlonega\, GA<br />\nDSR is a yoga retreat center with hiking trails\, seasonal food\, a labyrinth\, and plenty of cozy\, relaxing spaces.<br />\n(My favorite spot: rocking chairs on the porch!)</span></span></p>\n\n<h2><span style="font-size:12px\;"><span style="font-family: arial\;">sharing your practice:</span></span></h2>\n\n<p><span style="font-size:12px\;"><span style="font-family: arial\;">We will have a shared practice space.&nbsp\;Your only requirement is a&nbsp\;self-practice&nbsp\;which you can sustain\, without instruction\, for 30-60 minutes.&nbsp\;Asana\, seated meditation\, anything that you can do silently and in an individual-sized space (the equivalent of a yoga mat) is welcome.</span></span></p>\n\n<p><span style="font-size:12px\;"><span style="font-family: arial\;"><em>Say what? You want me to practice without instruction?! I can&#39\;t do that!</em><br />\n* Just in case that&#39\;s your first reaction: don&#39\;t worry. There are no perfect practitioners. There is no yoga/meditation SWAT team that will bust into the room when your mind wanders or you lose your balance. There&#39\;s just showing up. This is a fundamental leadership skill.</span></span></p>\n\n<h2><span style="font-size:12px\;"><span style="font-family: arial\;">investment:</span></span></h2>\n\n<p><span style="font-size:12px\;"><span style="font-family: arial\;">The retreat fee is&nbsp\;$450 per person and includes the following:<br />\n- 2 nights in double occupancy room (add $50 for double occupancy in a cabin)<br />\n-&nbsp\;meals from Friday dinner to Sunday breakfast (DSR also has a butler&#39\;s pantry with tea and coffee)<br />\n- all retreat sessions (Friday night to Sunday afternoon)</span></span></p>\n\n<h2><span style="font-size:12px\;"><span style="font-family: arial\;">registration &amp\; discount:</span></span></h2>\n\n<p><span style="font-size:12px\;"><span style="font-family: arial\;">Your non-refundable deposit of $150 holds your space\; the balance is due no later than 1 month before the retreat.<br />\nPlease email stephaniefrancesca@gmail.com for payment instructions.</span></span></p>\n\n<p><span style="font-size:12px\;"><span style="font-family: arial\;"><strong>EARLY REGISTRATION DISCOUNT:</strong>&nbsp\;$50 discount on the retreat fee for the first 10 people to register.&nbsp\;Your choice to apply it to the deposit or the balance (only one\, please).</span></span></p>\n\n<h2><span style="font-size:12px\;"><span style="font-family: arial\;">extras:</span></span></h2>\n\n<p><span style="font-size:12px\;"><span style="font-family: arial\;">DSR has spa treatments available\, which must be scheduled in advance. (The schedule&nbsp\;will have some free time on both Saturday and Sunday) </span></span></p>\n
LOCATION:Dahlonega Spa Resort
UID:e.69.4924
SEQUENCE:3
DTSTAMP:20260422T151531Z
URL:https://members.dlcchamber.org/events/details/numinous-moxie-a-righteous-way-to-retreat-with-stephanie-kohler-02-19-2016-4924
END:VEVENT

END:VCALENDAR
