BEGIN:VCALENDAR
VERSION:2.0
PRODID:-//ChamberMaster//Event Calendar 2.0//EN
METHOD:PUBLISH
X-PUBLISHED-TTL:P3D
REFRESH-INTERVAL:P3D
CALSCALE:GREGORIAN
BEGIN:VEVENT
DTSTART:20180928T190000Z
DTEND:20180930T150000Z
X-MICROSOFT-CDO-ALLDAYEVENT:FALSE
SUMMARY:Soul Nourish Women's Weekend Retreat: The Sacred Art of Letting Go
DESCRIPTION:Awaken your clarity and intuition\, embody the warrior heart and commune with your own sacred wisdom. This transforming Women's Weekend supports you shedding who you were and moving on your path. We'll touch the spiritual journey and celebrate the Fall Equinox with a labyrinth ritual\, sacred reflections and new Enneagram-based stillness and moving meditations. It's a time of finding your place in the cycles of life\, giving thanks and balance.\n\n\n\nWake up to presencing meditations and guided soulwork explorations that are intuitive\, deep and liberating. Playful\, fun yoga and healing techniques will balance and brighten your body's energy centers. You'll laugh\, learn\, share and incorporate new ways of being into your life at home. Nestled in the foothills of the Blue Ridge Mountains in Dahlonega\, Georgia\, this personal discovery and yoga retreat was created by Soul Nourish's directors Shari L Fox & Mandy Roberts?yoginis\, friends and soulful women leaders.\n\n\n\n"Mandy shows us how much the power of laughter and love can transform! She creates community on the\n\nmat in which every person is seen and heard and valued. Amazing experience!"\n\n\n\n"Shari teaches a skill that is essential to the core of our very being. Thank you for reconnecting me to me.\n\nBeautiful\, spiritual and empowering retreat!"\n\n\n\nYour all-inclusive retreat package:\n\nNightly accommodations\, all delicious meals focused on healthy seasonal ingredients\, all planned programming\, all-levels yoga and Enneagram classes by Mandy & Shari\, welcome gifts and use of the yoga props\, jacuzzi\, labyrinth and woodland trails.\n\n\n\nFRIDAY\n\n{Morning} Arrivals & Check-In\n\n{Afternoon} Lunch on the porch + Massage* + Welcome Ceremony & Intentions + All-Levels Yoga\n\n{Evening} Dinner + Soul Night & Sacred Vibes Labyrinth Ritual\n\n\n\nSATURDAY\n\n{Morning} Flow + Meditation + Breakfast + Workshop & Yoga\n\n{Afternoon} Lunch + Spa* + Nature Trails + Awakening Sessions + Free Time\n\n{Evening} Dinner + Unwind & Relax: Aromatherapy Bodywork (a.k.a. "The Best Savasana Ever")\n\n\n\nSUNDAY\n\n{Morning} Flow + Meditation + Breakfast + Our Amazing Closing Circle\n\n{Afternoon} Bon Voyage!\n\nhttps://www.facebook.com/soulnourishretreats/\n\nhttps://www.instagram.com/soulnourishretreats/
X-ALT-DESC;FMTTYPE=text/html:<span style="font-family:arial\,sans-serif"><span style="font-size:9.0pt">Awaken your clarity and intuition\, embody the warrior heart and commune with your own sacred wisdom. This transforming Women&#39\;s Weekend supports you shedding who you were and moving on your path. We&#39\;ll touch the spiritual journey and celebrate the Fall Equinox with a labyrinth ritual\, sacred reflections and new Enneagram-based stillness and moving meditations. It&#39\;s a time of finding your place in the cycles of life\, giving thanks and balance.<br />\n<br />\nWake up to presencing meditations and guided soulwork explorations that are intuitive\, deep and liberating. Playful\, fun yoga and healing techniques will balance and brighten your body&rsquo\;s energy centers. You&rsquo\;ll laugh\, learn\, share and incorporate new ways of being into your life at home. Nestled in the foothills of the Blue Ridge Mountains in Dahlonega\, Georgia\, this personal discovery and yoga retreat was created by Soul Nourish&rsquo\;s directors Shari L Fox &amp\; Mandy Roberts?yoginis\, friends and soulful women leaders.<br />\n<br />\n&ldquo\;Mandy shows us how much the power of laughter and love can transform! She creates community on the<br />\nmat in which every person is seen and heard and valued. Amazing experience!&rdquo\;<br />\n<br />\n&ldquo\;Shari teaches a skill that is essential to the core of our very being. Thank you for reconnecting me to me.<br />\nBeautiful\, spiritual and empowering retreat!&rdquo\;<br />\n<br />\nYour all-inclusive retreat package:<br />\nNightly accommodations\, all delicious meals focused on healthy seasonal ingredients\, all planned programming\, all-levels yoga and Enneagram classes by Mandy &amp\; Shari\, welcome gifts and use of the yoga props\, jacuzzi\, labyrinth and woodland trails.<br />\n<br />\nFRIDAY<br />\n{Morning} Arrivals &amp\; Check-In<br />\n{Afternoon} Lunch on the porch + Massage* + Welcome Ceremony &amp\; Intentions + All-Levels Yoga<br />\n{Evening} Dinner + Soul Night &amp\; Sacred Vibes Labyrinth Ritual<br />\n<br />\nSATURDAY<br />\n{Morning} Flow + Meditation + Breakfast + Workshop &amp\; Yoga<br />\n{Afternoon} Lunch + Spa* + Nature Trails + Awakening Sessions + Free Time<br />\n{Evening} Dinner + Unwind &amp\; Relax: Aromatherapy Bodywork (a.k.a. &ldquo\;The Best Savasana Ever&rdquo\;)<br />\n<br />\nSUNDAY<br />\n{Morning} Flow + Meditation + Breakfast + Our Amazing Closing Circle<br />\n{Afternoon} Bon Voyage!<br />\n<a href="https://www.facebook.com/soulnourishretreats/" target="_blank">https://www.facebook.com/soulnourishretreats/</a><br />\n<a href="https://www.instagram.com/soulnourishretreats/" target="_blank">https://www.instagram.com/soulnourishretreats/</a></span></span>
LOCATION:Dahlonega Spa Resort
UID:e.69.49120
SEQUENCE:3
DTSTAMP:20260420T104246Z
URL:https://members.dlcchamber.org/events/details/soul-nourish-women-s-weekend-retreat-the-sacred-art-of-letting-go-49120
END:VEVENT

END:VCALENDAR
