BEGIN:VCALENDAR
VERSION:2.0
PRODID:-//ChamberMaster//Event Calendar 2.0//EN
METHOD:PUBLISH
X-PUBLISHED-TTL:P3D
REFRESH-INTERVAL:P3D
CALSCALE:GREGORIAN
BEGIN:VEVENT
DTSTART:20180930T000000Z
DTEND:20180930T020000Z
X-MICROSOFT-CDO-ALLDAYEVENT:FALSE
SUMMARY:The Crimson Moon:JOHN D'AMATO (Indie Blues Trail-Blazer)
DESCRIPTION:John D'Amato has been making waves since the turn of this century. In 2009 John was selected as one of "Guitar Player Magazine's Editors Top 8". John performed with B.B. King in 2010 in Nashville and Billy Cox and Eric Gales in that same year. Joe Louis Walker was so impressed with John he asked him to perform on his Award Winning 2012 release "Hellfire". Since John's own 2010 debut album "Ain't No Big Deal" he has unrelentingly blazed a new artistic blues trail and continues to evolve as a songwriter and performer.  His goal is to hone his craft and grow his legacy to be one of the truly great guitar slingers of all time. John just released his latest album "Blood On The Strings"! www.JohnDAmato.net
X-ALT-DESC;FMTTYPE=text/html:John D&rsquo\;Amato has been making waves since the turn of this century. In 2009 John was selected as one of &ldquo\;Guitar Player Magazine&rsquo\;s Editors Top 8&rdquo\;. John performed with B.B. King in 2010 in Nashville and Billy Cox and Eric Gales in that same year. Joe Louis Walker was so impressed with John he asked him to perform on his Award Winning 2012 release &ldquo\;Hellfire&rdquo\;. Since John&rsquo\;s own 2010 debut album &ldquo\;Ain&rsquo\;t No Big Deal&rdquo\; he has unrelentingly blazed a new artistic blues trail and continues to evolve as a songwriter and performer.&nbsp\; His goal is to hone his craft and grow his legacy to be one of the truly great guitar slingers of all time. John just released his latest album &quot\;Blood On The Strings&quot\;! www.JohnDAmato.net
LOCATION:The Crimson Moon
UID:e.69.49572
SEQUENCE:3
DTSTAMP:20260420T110304Z
URL:https://members.dlcchamber.org/events/details/the-crimson-moon-john-d-amato-indie-blues-trail-blazer-49572
END:VEVENT

END:VCALENDAR
