BEGIN:VCALENDAR
VERSION:2.0
PRODID:-//ChamberMaster//Event Calendar 2.0//EN
METHOD:PUBLISH
X-PUBLISHED-TTL:P3D
REFRESH-INTERVAL:P3D
CALSCALE:GREGORIAN
BEGIN:VEVENT
DTSTART:20180913T230000Z
DTEND:20180914T020000Z
X-MICROSOFT-CDO-ALLDAYEVENT:FALSE
SUMMARY:Visiting Author Karen Salyer McElmurray- Gainesville
DESCRIPTION:Karen Salyer McElmurray\, author of the memoir\, Surrendered Child: A Birth Mother's Journey (Association of Writers & Writing Programs Award)\, the novels\, The Motel of the Stars (Editor's Pick by Oxford American)\, and Strange Birds in the Tree of Heaven (the Chaffin Award for Appalachian Writing)\, and coeditor of a Collection of Essays\, Walk Till the Dogs Get Mean: Meditations on the Forbidden from Contemporary Appalachia\, will be reading from "Trip Around the World" an essay about place\, self\, and identify in Appalachia." She will be reading on the Gainesville Campus on Thursday\, September 13th at 7:00 pm in Nesbitt 3110B.
X-ALT-DESC;FMTTYPE=text/html:<span style="color:rgb(29\, 33\, 41)\; font-family:helvetica\,arial\,sans-serif\; font-size:14px">Karen Salyer McElmurray\, author of the memoir\, Surrendered Child: A Birth Mother&rsquo\;s Journey (Association of Writers &amp\; Writing Programs Award)\, the novels\, The Motel of the Stars (Editor&rsquo\;s Pick by Oxford American)\, and Strange Birds in the Tree of Heaven (the Chaffin Award for Appalachian Writing)\, and coeditor of a Collection of Essays\, Walk Till the Dogs Get Mean: Meditations on the Forbidden from Contemporary Appalachia\, will be reading from &ldquo\;Trip Around the World&rdquo\; an essay about place\, self\, and identify in Appalachia.&quot\; She will be reading on the Gainesville Campus on Thursday\, September 13th at 7:00 pm in Nesbitt 3110B.</span>
LOCATION:University of North Georgia\, Gainesville Campus 2571 Mathis Drive Oakwood\, Georgia 30503 Martha T. Nesbitt Room 3110 B
UID:e.69.49778
SEQUENCE:3
DTSTAMP:20260420T105612Z
URL:https://members.dlcchamber.org/events/details/visiting-author-karen-salyer-mcelmurray-gainesville-49778
END:VEVENT

END:VCALENDAR
